BEGIN:VCALENDAR
VERSION:2.0
PRODID:-//Tuneden Live - ECPv6.15.20//NONSGML v1.0//EN
CALSCALE:GREGORIAN
METHOD:PUBLISH
X-WR-CALNAME:Tuneden Live
X-ORIGINAL-URL:https://tunedenlive.com
X-WR-CALDESC:Events for Tuneden Live
REFRESH-INTERVAL;VALUE=DURATION:PT1H
X-Robots-Tag:noindex
X-PUBLISHED-TTL:PT1H
BEGIN:VTIMEZONE
TZID:America/Chicago
BEGIN:DAYLIGHT
TZOFFSETFROM:-0600
TZOFFSETTO:-0500
TZNAME:CDT
DTSTART:20200308T080000
END:DAYLIGHT
BEGIN:STANDARD
TZOFFSETFROM:-0500
TZOFFSETTO:-0600
TZNAME:CST
DTSTART:20201101T070000
END:STANDARD
BEGIN:DAYLIGHT
TZOFFSETFROM:-0600
TZOFFSETTO:-0500
TZNAME:CDT
DTSTART:20210314T080000
END:DAYLIGHT
BEGIN:STANDARD
TZOFFSETFROM:-0500
TZOFFSETTO:-0600
TZNAME:CST
DTSTART:20211107T070000
END:STANDARD
BEGIN:DAYLIGHT
TZOFFSETFROM:-0600
TZOFFSETTO:-0500
TZNAME:CDT
DTSTART:20220313T080000
END:DAYLIGHT
BEGIN:STANDARD
TZOFFSETFROM:-0500
TZOFFSETTO:-0600
TZNAME:CST
DTSTART:20221106T070000
END:STANDARD
END:VTIMEZONE
BEGIN:VEVENT
DTSTART;TZID=America/Chicago:20210128T190000
DTEND;TZID=America/Chicago:20210128T220000
DTSTAMP:20260421T045020
CREATED:20210122T053222Z
LAST-MODIFIED:20210122T053309Z
UID:1335-1611860400-1611871200@tunedenlive.com
SUMMARY:Tuneden Live presents:  January's "Realtime Request Line" with Papa Bear and the Love Den
DESCRIPTION:Stream to your TV and turn your living room into your own private bandstand! Enjoy a band of accomplished Nashville musicians catering to your requests in real-time! Band members include those that have worked with Kane Brown\, American Idol\, Dueling Piano Bars\, Chase Rice\, and more! \n  \n 
URL:https://tunedenlive.com/event/tuneden-live-presents-januarys-realtime-request-line-with-papa-bear-and-the-love-den/
CATEGORIES:Free Live-Stream Events
ATTACH;FMTTYPE=image/jpeg:https://tunedenlive.com/wp-content/uploads/2021/01/RTRL-1.28.2021.jpg
END:VEVENT
END:VCALENDAR